Workbook

Sheet 入力シート
A1: 項目 | B1: 入力欄
A2: 該当（実施）年 （令和） | C2: 年
A3: 該当（実施）月 | C3: 月分
A4: 請求年 （令和） | C4: 年
A5: 請求月 | C5: 月
A6: 請求日 | C6: 日
A7: 医療機関名
A8: 代表者名
A9: 電話番号
A10: 【注射ワクチン】1回目 | C10: 件
A11: 【注射ワクチン】2回目 | C11: 件
A12: 【経鼻ワクチン】 | C12: 件

Sheet 小児インフルエンザ予防接種実施明細書（印刷用）
A1: 様式第１号（第7条関係） | E1: 小児インフルエンザ予防接種実施明細書
K3: 令和 | L3: =IF(入力シート!B4="","",入力シート!B4) | M3: 年 | N3: =IF(入力シート!B5="","",入力シート!B5) | O3: 月 | P3: =IF(入力シート!B6="","",入力シート!B6) | Q3: 日
A4: 令和 | B4: =IF(入力シート!B2="","",入力シート!B2) | C4: 年 | D4: =IF(入力シート!B3="","",入力シート!B3) | E4: 月分 | I4: 医療機関名 | L4: =IF(入力シート!B7="","",入力シート!B7)
I6: 電話番号 | L6: =IF(入力シート!B7="","",入力シート!B9)
L7: =IF(入力シート!B8="","",入力シート!B8)
I8: 代表者名
F9: 件 数 | J9: 単 価 | N9: 金 額
A10: 【注射ワクチン】1回目 | F10: =IF(入力シート!$B$10="","",入力シート!B10) | I10: 件 | J10: 1000 | M10: 円 | N10: =IF(F10="","",F10*J10) | Q10: 円
A11: 【注射ワクチン】2回目 | F11: =IF(入力シート!$B$11="","",入力シート!B11) | I11: 件 | J11: 1000 | M11: 円 | N11: =IF(F11="","",F11*J11) | Q11: 円
A12: 【経鼻ワクチン】 | F12: =IF(入力シート!$B$12="","",入力シート!B12) | I12: 件 | J12: 2000 | M12: 円 | N12: =IF(F12="","",F12*J12) | Q12: 円
A13: 合計 | F13: =IF(SUM(F10:H12)=0," ",SUM(F10:H12)) | I13: 件 | N13: =IF(SUM(N10:P12)=0," ",SUM(N10:P12)) | Q13: 円
N14: （消費税及び地方消費税を含む）
A15: （岐 阜 市 用）
E17: 小児インフルエンザ予防接種実施明細書
K19: 令和 | L19: =L3 | M19: 年 | N19: =N3 | O19: 月 | P19: =P3 | Q19: 日
A20: 令和 | B20: =B4 | C20: 年 | D20: =D4 | E20: 月分 | I20: 医療機関名 | L20: =L4
I22: 電話番号 | L22: =L6
L23: =L7
I24: 代表者名
F25: 件 数 | J25: 単 価 | N25: 金 額
A26: 【注射ワクチン】1回目 | F26: =F10 | I26: 件 | J26: 1000 | M26: 円 | N26: =N10 | Q26: 円
A27: 【注射ワクチン】2回目 | F27: =F11 | I27: 件 | J27: 1000 | M27: 円 | N27: =N11 | Q27: 円
A28: 【経鼻ワクチン】 | F28: =F12 | I28: 件 | J28: 2000 | M28: 円 | N28: =N12 | Q28: 円
A29: 合計 | I29: 件 | N29: =N13 | Q29: 円
N30: （消費税及び地方消費税を含む）
A31: （医 師 会 用）
E33: 小児インフルエンザ予防接種実施明細書
K35: 令和 | L35: =L3 | M35: 年 | N35: =N3 | O35: 月 | P35: =P3 | Q35: 日
A36: 令和 | B36: =B4 | C36: 年 | D36: =D4 | E36: 月分 | I36: 医療機関名 | L36: =L4
I38: 電話番号 | L38: =L6
L39: =L7
I40: 代表者名
F41: 件 数 | J41: 単 価 | N41: 金 額
A42: 【注射ワクチン】1回目 | F42: =F10 | I42: 件 | J42: 1000 | M42: 円 | N42: =N10 | Q42: 円
A43: 【注射ワクチン】2回目 | F43: =F11 | I43: 件 | J43: 1000 | M43: 円 | N43: =N11 | Q43: 円
A44: 【経鼻ワクチン】 | F44: =F12 | I44: 件 | J44: 2000 | M44: 円 | N44: =N12 | Q44: 円
A45: 合計 | F45: =F13 | I45: 件 | N45: =N13 | Q45: 円
N46: （消費税及び地方消費税を含む）
A47: （医 療 機 関 用）
