Workbook

Sheet 入力シート
A1: 項目 | B1: 入力欄
A2: 該当（実施）年 （令和） | C2: 年
A3: 該当（実施）月 | C3: 月分
A4: 請求年 （令和） | C4: 年
A5: 請求月 | C5: 月
A6: 請求日 | C6: 日
A7: 所在地
A8: 医療機関名
A9: 代表者名
A10: 電話番号
A11: 【注射ワクチン】1回目 | C11: 件
A12: 【注射ワクチン】2回目 | C12: 件
A13: 【経鼻ワクチン】 | C13: 件

Sheet 任意様式請求書（印刷用）
E3: 請 求 書
B8: 令和 | D8: =IF(入力シート!B2="","",入力シート!B2) | E8: 年 | F8: =IF(入力シート!B3="","",入力シート!B3) | G8: 月分
D9: =IF([1]入力シート!D7="","",[1]入力シート!D7) | F9: =IF([1]入力シート!F7="","",[1]入力シート!F7)
E11: 請求 金額 | G11: =Q49 | R11: 円
M15: （消費税及び地方消費税を含む）
C17: 上記のとおり請求します。
C19: （あて先）岐阜市長
L21: 令和 | N21: =IF(入力シート!B4="","",入力シート!B4) | O21: 年 | P21: =IF(入力シート!B5="","",入力シート!B5) | Q21: 月 | R21: =IF(入力シート!B6="","",入力シート!B6) | S21: 日
L23: 所在地 | O23: =IF(入力シート!B7="","",入力シート!B7) | P23: =IF(入力シート!D6="","",入力シート!D6) | Q23: =IF(入力シート!E6="","",入力シート!E6) | R23: =IF(入力シート!F6="","",入力シート!F6) | S23: =IF(入力シート!G6="","",入力シート!G6) | T23: =IF(入力シート!H6="","",入力シート!H6) | U23: =IF(入力シート!I6="","",入力シート!I6)
O24: =IF(入力シート!C8="","",入力シート!C8) | P24: =IF(入力シート!D8="","",入力シート!D8) | Q24: =IF(入力シート!E8="","",入力シート!E8) | R24: =IF(入力シート!F8="","",入力シート!F8) | S24: =IF(入力シート!G8="","",入力シート!G8) | T24: =IF(入力シート!H8="","",入力シート!H8) | U24: =IF(入力シート!I8="","",入力シート!I8)
L26: 医療機関名 | O26: =IF(入力シート!B8="","",入力シート!B8) | P26: =IF(入力シート!D9="","",入力シート!D9) | Q26: =IF(入力シート!E9="","",入力シート!E9) | R26: =IF(入力シート!F9="","",入力シート!F9) | S26: =IF(入力シート!G9="","",入力シート!G9) | T26: =IF(入力シート!H9="","",入力シート!H9) | U26: =IF(入力シート!I9="","",入力シート!I9)
O27: =IF(入力シート!C11="","",入力シート!C11) -> 件 | P27: =IF(入力シート!D11="","",入力シート!D11) | Q27: =IF(入力シート!E11="","",入力シート!E11) | R27: =IF(入力シート!F11="","",入力シート!F11) | S27: =IF(入力シート!G11="","",入力シート!G11) | T27: =IF(入力シート!H11="","",入力シート!H11) | U27: =IF(入力シート!I11="","",入力シート!I11)
L29: 電話番号 | O29: =IF(入力シート!B10="","",入力シート!B10) | P29: =IF(入力シート!D12="","",入力シート!D12) | Q29: =IF(入力シート!E12="","",入力シート!E12) | R29: =IF(入力シート!F12="","",入力シート!F12) | S29: =IF(入力シート!G12="","",入力シート!G12) | T29: =IF(入力シート!H12="","",入力シート!H12) | U29: =IF(入力シート!I12="","",入力シート!I12)
O30: =IF(入力シート!C14="","",入力シート!C14) | P30: =IF(入力シート!D14="","",入力シート!D14) | Q30: =IF(入力シート!E14="","",入力シート!E14) | R30: =IF(入力シート!F14="","",入力シート!F14) | S30: =IF(入力シート!G14="","",入力シート!G14) | T30: =IF(入力シート!H14="","",入力シート!H14) | U30: =IF(入力シート!I14="","",入力シート!I14)
L32: 代表者名 | O32: =IF(入力シート!B9="","",入力シート!B9) | P32: =IF(入力シート!D15="","",入力シート!D15) | Q32: =IF(入力シート!E15="","",入力シート!E15) | R32: =IF(入力シート!F15="","",入力シート!F15) | S32: =IF(入力シート!G15="","",入力シート!G15) | T32: =IF(入力シート!H15="","",入力シート!H15) | U32: =IF(入力シート!I15="","",入力シート!I15)
O33: =IF(入力シート!C17="","",入力シート!C17) | P33: =IF(入力シート!D17="","",入力シート!D17) | Q33: =IF(入力シート!E17="","",入力シート!E17) | R33: =IF(入力シート!F17="","",入力シート!F17) | S33: =IF(入力シート!G17="","",入力シート!G17) | T33: =IF(入力シート!H17="","",入力シート!H17) | U33: =IF(入力シート!I17="","",入力シート!I17)
D35: 令和8年度小児インフルエンザ予防接種実施明細書
H38: 件 数 | M38: 単 価 | Q38: 金 額
C40: 【注射ワクチン】1回目 | H40: =IF(入力シート!B11="","",入力シート!B11) | I40: =IF(入力シート!#REF!="","",入力シート!#REF!) -> #REF! | J40: =IF(入力シート!#REF!="","",入力シート!#REF!) -> #REF! | K40: =IF(入力シート!#REF!="","",入力シート!#REF!) -> #REF! | L40: =IF(入力シート!#REF!="","",入力シート!#REF!) -> #REF! | M40: 1000 | P40: 円 | Q40: =IF(H40="","",H40*M40) | T40: 円
H41: =IF(入力シート!#REF!="","",入力シート!#REF!) -> #REF! | I41: =IF(入力シート!#REF!="","",入力シート!#REF!) -> #REF! | J41: =IF(入力シート!#REF!="","",入力シート!#REF!) -> #REF! | K41: =IF(入力シート!#REF!="","",入力シート!#REF!) -> #REF! | L41: =IF(入力シート!#REF!="","",入力シート!#REF!) -> #REF!
H42: =IF(入力シート!#REF!="","",入力シート!#REF!) -> #REF! | I42: =IF(入力シート!#REF!="","",入力シート!#REF!) -> #REF! | J42: =IF(入力シート!#REF!="","",入力シート!#REF!) -> #REF! | K42: =IF(入力シート!#REF!="","",入力シート!#REF!) -> #REF! | L42: =IF(入力シート!#REF!="","",入力シート!#REF!) -> #REF!
C43: 【注射ワクチン】2回目 | H43: =IF(入力シート!B12="","",入力シート!B12) | I43: =IF(入力シート!#REF!="","",入力シート!#REF!) -> #REF! | J43: =IF(入力シート!#REF!="","",入力シート!#REF!) -> #REF! | K43: =IF(入力シート!#REF!="","",入力シート!#REF!) -> #REF! | L43: =IF(入力シート!#REF!="","",入力シート!#REF!) -> #REF! | M43: 1000 | P43: 円 | Q43: =IF(H43="","",H43*M43) | T43: 円
H44: =IF(入力シート!#REF!="","",入力シート!#REF!) -> #REF! | I44: =IF(入力シート!#REF!="","",入力シート!#REF!) -> #REF! | J44: =IF(入力シート!#REF!="","",入力シート!#REF!) -> #REF! | K44: =IF(入力シート!#REF!="","",入力シート!#REF!) -> #REF! | L44: =IF(入力シート!#REF!="","",入力シート!#REF!) -> #REF!
H45: =IF(入力シート!#REF!="","",入力シート!#REF!) -> #REF! | I45: =IF(入力シート!#REF!="","",入力シート!#REF!) -> #REF! | J45: =IF(入力シート!#REF!="","",入力シート!#REF!) -> #REF! | K45: =IF(入力シート!#REF!="","",入力シート!#REF!) -> #REF! | L45: =IF(入力シート!#REF!="","",入力シート!#REF!) -> #REF!
C46: 【経鼻ワクチン】 | H46: =IF(入力シート!B13="","",入力シート!B13) | I46: =IF(入力シート!#REF!="","",入力シート!#REF!) -> #REF! | J46: =IF(入力シート!#REF!="","",入力シート!#REF!) -> #REF! | K46: =IF(入力シート!#REF!="","",入力シート!#REF!) -> #REF! | L46: =IF(入力シート!#REF!="","",入力シート!#REF!) -> #REF! | M46: 2000 | P46: 円 | Q46: =IF(H46="","",H46*M46) | T46: 円
H47: =IF(入力シート!#REF!="","",入力シート!#REF!) -> #REF! | I47: =IF(入力シート!#REF!="","",入力シート!#REF!) -> #REF! | J47: =IF(入力シート!#REF!="","",入力シート!#REF!) -> #REF! | K47: =IF(入力シート!#REF!="","",入力シート!#REF!) -> #REF! | L47: =IF(入力シート!#REF!="","",入力シート!#REF!) -> #REF!
H48: =IF(入力シート!#REF!="","",入力シート!#REF!) -> #REF! | I48: =IF(入力シート!#REF!="","",入力シート!#REF!) -> #REF! | J48: =IF(入力シート!#REF!="","",入力シート!#REF!) -> #REF! | K48: =IF(入力シート!#REF!="","",入力シート!#REF!) -> #REF! | L48: =IF(入力シート!#REF!="","",入力シート!#REF!) -> #REF!
C49: 合計 | H49: =IF(SUM(H40,H43,H46)=0,"",SUM(H40,H43,H46)) | Q49: =IF(SUM(Q40:S48)=0,"",SUM(Q40:S48)) | R49: =IF(SUM(R64,R65)=0,"",SUM(R64,R65)) | S49: =IF(SUM(S64,S65)=0,"",SUM(S64,S65)) | T49: 円
Q50: =IF(SUM(Q48,Q48)=0,"",SUM(Q49,Q49)) | R50: =IF(SUM(R65,R66)=0,"",SUM(R65,R66)) | S50: =IF(SUM(S65,S66)=0,"",SUM(S65,S66))
Q51: =IF(SUM(Q49,Q49)=0,"",SUM(Q50,Q50)) | R51: =IF(SUM(R66,R67)=0,"",SUM(R66,R67)) | S51: =IF(SUM(S66,S67)=0,"",SUM(S66,S67))
